BEGIN:VCALENDAR
VERSION:2.0
PRODID:-//French Pie Community - ECPv6.15.20//NONSGML v1.0//EN
CALSCALE:GREGORIAN
METHOD:PUBLISH
X-WR-CALNAME:French Pie Community
X-ORIGINAL-URL:https://frenchpie.community
X-WR-CALDESC:Évènements pour French Pie Community
REFRESH-INTERVAL;VALUE=DURATION:PT1H
X-Robots-Tag:noindex
X-PUBLISHED-TTL:PT1H
BEGIN:VTIMEZONE
TZID:UTC
BEGIN:STANDARD
TZOFFSETFROM:+0000
TZOFFSETTO:+0000
TZNAME:UTC
DTSTART:20250101T000000
END:STANDARD
END:VTIMEZONE
BEGIN:VEVENT
DTSTART;TZID=UTC:20261113T203000
DTEND;TZID=UTC:20261114T003000
DTSTAMP:20260419T162413
CREATED:20251120T181432Z
LAST-MODIFIED:20251129T204416Z
UID:10000017-1794601800-1794616200@frenchpie.community
SUMMARY:French Touch Party - Prague
DESCRIPTION:Vivez une soirée où musique\, bulles et saveurs se rencontrent pour célébrer l’art de vivre à la française.\nAu rythme d’une sélection musicale French Touch\, laissez-vous emporter par des sonorités modernes et élégantes\, tandis que vos sens sont séduits par :\nLes Crémants de Limoux\, fines bulles aromatiques issues d’un terroir d’exception ;\nDes cocktails créatifs\, alliant audace et équilibre\, imaginés par des mixologues passionnés ;\nUn apéritif raffiné et gourmand\, mettant en avant des accords subtils et des saveurs délicates.\nUne expérience sensorielle complète où convivialité\, élégance et plaisir se conjuguent\, pour une soirée inoubliable\, festive et raffinée. \nExperience an evening where music\, bubbles\, and flavors come together to celebrate the French art of living.\nTo the rhythm of a French Touch music selection\, let yourself be carried away by modern\, elegant sounds while your senses are delighted by:\nCrémants de Limoux\, delicate aromatic bubbles from an exceptional terroir;\nCreative cocktails\, combining boldness and balance\, crafted by passionate mixologists;\nA refined and gourmet aperitif\, highlighting subtle pairings and delicate flavors.\nA complete sensory experience where conviviality\, elegance\, and pleasure unite for an unforgettable\, festive\, and sophisticated evening.
URL:https://frenchpie.community/event/french-touch-party-prague-2/
LOCATION:EFSY Prague\, Seifertova 570/55\, Praha 3-Žižkov\, 130 00\, Czech Republic
CATEGORIES:French Party,Prague,Soirée musicale
ATTACH;FMTTYPE=image/png:https://frenchpie.community/wp-content/uploads/2025/11/French-Touch-Party-13-NOV-CZ-scaled.png
ORGANIZER;CN="French Pie Community":MAILTO:info@frenchpie.community
END:VEVENT
BEGIN:VEVENT
DTSTART;TZID=UTC:20261113T203000
DTEND;TZID=UTC:20261114T003000
DTSTAMP:20260419T162413
CREATED:20251120T181501Z
LAST-MODIFIED:20251129T204423Z
UID:10000034-1794601800-1794616200@frenchpie.community
SUMMARY:French Touch Party - Paris
DESCRIPTION:Vivez une soirée où musique\, bulles et saveurs se rencontrent pour célébrer l’art de vivre à la française.\nAu rythme d’une sélection musicale French Touch\, laissez-vous emporter par des sonorités modernes et élégantes\, tandis que vos sens sont séduits par :\nLes Crémants de Limoux\, fines bulles aromatiques issues d’un terroir d’exception ;\nDes cocktails créatifs\, alliant audace et équilibre\, imaginés par des mixologues passionnés ;\nUn apéritif raffiné et gourmand\, mettant en avant des accords subtils et des saveurs délicates.\nUne expérience sensorielle complète où convivialité\, élégance et plaisir se conjuguent\, pour une soirée inoubliable\, festive et raffinée. \nExperience an evening where music\, bubbles\, and flavors come together to celebrate the French art of living.\nTo the rhythm of a French Touch music selection\, let yourself be carried away by modern\, elegant sounds while your senses are delighted by:\nCrémants de Limoux\, delicate aromatic bubbles from an exceptional terroir;\nCreative cocktails\, combining boldness and balance\, crafted by passionate mixologists;\nA refined and gourmet aperitif\, highlighting subtle pairings and delicate flavors.\nA complete sensory experience where conviviality\, elegance\, and pleasure unite for an unforgettable\, festive\, and sophisticated evening.
URL:https://frenchpie.community/event/french-touch-party-paris/
LOCATION:Zoku Paris\, 48 Av. de la Prte de Clichy\, Paris\, 75017\, France
CATEGORIES:French Party,Paris,Soirée musicale
ATTACH;FMTTYPE=image/png:https://frenchpie.community/wp-content/uploads/2025/11/French-Touch-Party-13-NOV-FR-scaled.png
ORGANIZER;CN="French Pie Community":MAILTO:info@frenchpie.community
END:VEVENT
BEGIN:VEVENT
DTSTART;TZID=UTC:20261113T203000
DTEND;TZID=UTC:20261114T003000
DTSTAMP:20260419T162413
CREATED:20251120T181642Z
LAST-MODIFIED:20251129T204428Z
UID:10000052-1794601800-1794616200@frenchpie.community
SUMMARY:French Touch Party - Tallinn
DESCRIPTION:Vivez une soirée où musique\, bulles et saveurs se rencontrent pour célébrer l’art de vivre à la française.\nAu rythme d’une sélection musicale French Touch\, laissez-vous emporter par des sonorités modernes et élégantes\, tandis que vos sens sont séduits par :\nLes Crémants de Limoux\, fines bulles aromatiques issues d’un terroir d’exception ;\nDes cocktails créatifs\, alliant audace et équilibre\, imaginés par des mixologues passionnés ;\nUn apéritif raffiné et gourmand\, mettant en avant des accords subtils et des saveurs délicates.\nUne expérience sensorielle complète où convivialité\, élégance et plaisir se conjuguent\, pour une soirée inoubliable\, festive et raffinée. \nExperience an evening where music\, bubbles\, and flavors come together to celebrate the French art of living.\nTo the rhythm of a French Touch music selection\, let yourself be carried away by modern\, elegant sounds while your senses are delighted by:\nCrémants de Limoux\, delicate aromatic bubbles from an exceptional terroir;\nCreative cocktails\, combining boldness and balance\, crafted by passionate mixologists;\nA refined and gourmet aperitif\, highlighting subtle pairings and delicate flavors.\nA complete sensory experience where conviviality\, elegance\, and pleasure unite for an unforgettable\, festive\, and sophisticated evening.
URL:https://frenchpie.community/event/french-touch-party-tallinn/
LOCATION:Centennial Nexus Hotel Tallinn\, Endla tn 15\, Tallinn\, 0122\, Estonia
CATEGORIES:French Party,Soirée gastronomique,Soirée musicale,Tallinn
ATTACH;FMTTYPE=image/png:https://frenchpie.community/wp-content/uploads/2025/11/French-Touch-Party-13-NOV-EST-scaled.png
ORGANIZER;CN="French Pie Community":MAILTO:info@frenchpie.community
END:VEVENT
BEGIN:VEVENT
DTSTART;TZID=UTC:20261113T203000
DTEND;TZID=UTC:20261114T003000
DTSTAMP:20260419T162413
CREATED:20251120T181800Z
LAST-MODIFIED:20251129T204433Z
UID:10000072-1794601800-1794616200@frenchpie.community
SUMMARY:French Touch Party - Stockholm
DESCRIPTION:Vivez une soirée où musique\, bulles et saveurs se rencontrent pour célébrer l’art de vivre à la française.\nAu rythme d’une sélection musicale French Touch\, laissez-vous emporter par des sonorités modernes et élégantes\, tandis que vos sens sont séduits par :\nLes Crémants de Limoux\, fines bulles aromatiques issues d’un terroir d’exception ;\nDes cocktails créatifs\, alliant audace et équilibre\, imaginés par des mixologues passionnés ;\nUn apéritif raffiné et gourmand\, mettant en avant des accords subtils et des saveurs délicates.\nUne expérience sensorielle complète où convivialité\, élégance et plaisir se conjuguent\, pour une soirée inoubliable\, festive et raffinée. \nExperience an evening where music\, bubbles\, and flavors come together to celebrate the French art of living.\nTo the rhythm of a French Touch music selection\, let yourself be carried away by modern\, elegant sounds while your senses are delighted by:\nCrémants de Limoux\, delicate aromatic bubbles from an exceptional terroir;\nCreative cocktails\, combining boldness and balance\, crafted by passionate mixologists;\nA refined and gourmet aperitif\, highlighting subtle pairings and delicate flavors.\nA complete sensory experience where conviviality\, elegance\, and pleasure unite for an unforgettable\, festive\, and sophisticated evening.
URL:https://frenchpie.community/event/french-touch-party-stockholm/
LOCATION:Kungsholmstorg 15\, Kungsholmstorg 15\, Stockholm\, 112 21\, Sweden
CATEGORIES:French Party,Soirée française,Soirée musicale,Stockholm
ATTACH;FMTTYPE=image/png:https://frenchpie.community/wp-content/uploads/2025/11/French-Touch-Party-13-NOV-SE-scaled.png
ORGANIZER;CN="French Pie Community":MAILTO:info@frenchpie.community
END:VEVENT
BEGIN:VEVENT
DTSTART;TZID=UTC:20261127T190000
DTEND;TZID=UTC:20261127T220000
DTSTAMP:20260419T162413
CREATED:20251120T181929Z
LAST-MODIFIED:20251129T204528Z
UID:10000018-1795806000-1795816800@frenchpie.community
SUMMARY:Les inventions scientifiques françaises - Prague
DESCRIPTION:Plongez dans l’univers de l’innovation française avec une conférence dédiée aux inventions scientifiques qui ont marqué l’histoire. De Louis Pasteur à Marie Curie\, en passant par des découvertes récentes\, explorez les idées\, expériences et innovations qui ont façonné la science et transformé notre quotidien.\nCette conférence offre une immersion à la fois instructive et inspirante\, permettant de mieux comprendre les avancées majeures de la science française et leur impact mondial\, tout en suscitant curiosité et échanges.\nPour prolonger cette expérience intellectuelle\, la conférence sera suivie d’une dégustation raffinée de Crémants de Limoux\, accompagnée d’un apéritif convivial\, propice aux discussions et aux rencontres autour des thématiques scientifiques.\nUn moment où culture\, curiosité et plaisir se conjuguent pour offrir une soirée enrichissante et conviviale. \nImmerse yourself in the world of French innovation with a lecture dedicated to the scientific inventions that have shaped history. From Louis Pasteur to Marie Curie\, and including recent discoveries\, explore the ideas\, experiments\, and innovations that have advanced science and transformed our daily lives.\nThis lecture offers an educational and inspiring experience\, providing insight into major French scientific achievements and their global impact\, while fostering curiosity and discussion.\nTo extend this intellectual experience\, the lecture will be followed by a refined tasting of Crémants de Limoux\, accompanied by a convivial aperitif\, encouraging conversation and connections around scientific topics.\nAn event where culture\, curiosity\, and enjoyment come together to offer an enriching and engaging evening.
URL:https://frenchpie.community/event/les-inventions-scientifiques-francaises-prague/
LOCATION:EFSY Prague\, Seifertova 570/55\, Praha 3-Žižkov\, 130 00\, Czech Republic
CATEGORIES:Conférence,Prague,Soirée française
ATTACH;FMTTYPE=image/png:https://frenchpie.community/wp-content/uploads/2025/11/Les-inventions-scientifiques-francaises-CZ-scaled.png
ORGANIZER;CN="French Pie Community":MAILTO:info@frenchpie.community
END:VEVENT
BEGIN:VEVENT
DTSTART;TZID=UTC:20261127T190000
DTEND;TZID=UTC:20261127T220000
DTSTAMP:20260419T162413
CREATED:20251120T183615Z
LAST-MODIFIED:20251129T204536Z
UID:10000036-1795806000-1795816800@frenchpie.community
SUMMARY:Les inventions scientifiques françaises - Paris
DESCRIPTION:Plongez dans l’univers de l’innovation française avec une conférence dédiée aux inventions scientifiques qui ont marqué l’histoire. De Louis Pasteur à Marie Curie\, en passant par des découvertes récentes\, explorez les idées\, expériences et innovations qui ont façonné la science et transformé notre quotidien.\nCette conférence offre une immersion à la fois instructive et inspirante\, permettant de mieux comprendre les avancées majeures de la science française et leur impact mondial\, tout en suscitant curiosité et échanges.\nPour prolonger cette expérience intellectuelle\, la conférence sera suivie d’une dégustation raffinée de Crémants de Limoux\, accompagnée d’un apéritif convivial\, propice aux discussions et aux rencontres autour des thématiques scientifiques.\nUn moment où culture\, curiosité et plaisir se conjuguent pour offrir une soirée enrichissante et conviviale. \nImmerse yourself in the world of French innovation with a lecture dedicated to the scientific inventions that have shaped history. From Louis Pasteur to Marie Curie\, and including recent discoveries\, explore the ideas\, experiments\, and innovations that have advanced science and transformed our daily lives.\nThis lecture offers an educational and inspiring experience\, providing insight into major French scientific achievements and their global impact\, while fostering curiosity and discussion.\nTo extend this intellectual experience\, the lecture will be followed by a refined tasting of Crémants de Limoux\, accompanied by a convivial aperitif\, encouraging conversation and connections around scientific topics.\nAn event where culture\, curiosity\, and enjoyment come together to offer an enriching and engaging evening.
URL:https://frenchpie.community/event/les-inventions-scientifiques-francaises-paris/
LOCATION:Zoku Paris\, 48 Av. de la Prte de Clichy\, Paris\, 75017\, France
CATEGORIES:Conférence,Paris
ATTACH;FMTTYPE=image/png:https://frenchpie.community/wp-content/uploads/2025/11/Les-inventions-scientifiques-francaises-FR-scaled.png
ORGANIZER;CN="French Pie Community":MAILTO:info@frenchpie.community
END:VEVENT
BEGIN:VEVENT
DTSTART;TZID=UTC:20261127T190000
DTEND;TZID=UTC:20261127T220000
DTSTAMP:20260419T162413
CREATED:20251120T183729Z
LAST-MODIFIED:20251129T204540Z
UID:10000053-1795806000-1795816800@frenchpie.community
SUMMARY:Les inventions scientifiques françaises - Tallinn
DESCRIPTION:Plongez dans l’univers de l’innovation française avec une conférence dédiée aux inventions scientifiques qui ont marqué l’histoire. De Louis Pasteur à Marie Curie\, en passant par des découvertes récentes\, explorez les idées\, expériences et innovations qui ont façonné la science et transformé notre quotidien.\nCette conférence offre une immersion à la fois instructive et inspirante\, permettant de mieux comprendre les avancées majeures de la science française et leur impact mondial\, tout en suscitant curiosité et échanges.\nPour prolonger cette expérience intellectuelle\, la conférence sera suivie d’une dégustation raffinée de Crémants de Limoux\, accompagnée d’un apéritif convivial\, propice aux discussions et aux rencontres autour des thématiques scientifiques.\nUn moment où culture\, curiosité et plaisir se conjuguent pour offrir une soirée enrichissante et conviviale. \nImmerse yourself in the world of French innovation with a lecture dedicated to the scientific inventions that have shaped history. From Louis Pasteur to Marie Curie\, and including recent discoveries\, explore the ideas\, experiments\, and innovations that have advanced science and transformed our daily lives.\nThis lecture offers an educational and inspiring experience\, providing insight into major French scientific achievements and their global impact\, while fostering curiosity and discussion.\nTo extend this intellectual experience\, the lecture will be followed by a refined tasting of Crémants de Limoux\, accompanied by a convivial aperitif\, encouraging conversation and connections around scientific topics.\nAn event where culture\, curiosity\, and enjoyment come together to offer an enriching and engaging evening.
URL:https://frenchpie.community/event/les-inventions-scientifiques-francaises-tallinn/
LOCATION:Centennial Nexus Hotel Tallinn\, Endla tn 15\, Tallinn\, 0122\, Estonia
CATEGORIES:Conférence,Soirée française,Tallinn
ATTACH;FMTTYPE=image/png:https://frenchpie.community/wp-content/uploads/2025/11/Les-inventions-scientifiques-francaises-EST-scaled.png
ORGANIZER;CN="French Pie Community":MAILTO:info@frenchpie.community
END:VEVENT
BEGIN:VEVENT
DTSTART;TZID=UTC:20261127T190000
DTEND;TZID=UTC:20261127T220000
DTSTAMP:20260419T162413
CREATED:20251120T183814Z
LAST-MODIFIED:20251129T204547Z
UID:10000063-1795806000-1795816800@frenchpie.community
SUMMARY:Les inventions scientifiques françaises - Copenhagen
DESCRIPTION:Plongez dans l’univers de l’innovation française avec une conférence dédiée aux inventions scientifiques qui ont marqué l’histoire. De Louis Pasteur à Marie Curie\, en passant par des découvertes récentes\, explorez les idées\, expériences et innovations qui ont façonné la science et transformé notre quotidien.\nCette conférence offre une immersion à la fois instructive et inspirante\, permettant de mieux comprendre les avancées majeures de la science française et leur impact mondial\, tout en suscitant curiosité et échanges.\nPour prolonger cette expérience intellectuelle\, la conférence sera suivie d’une dégustation raffinée de Crémants de Limoux\, accompagnée d’un apéritif convivial\, propice aux discussions et aux rencontres autour des thématiques scientifiques.\nUn moment où culture\, curiosité et plaisir se conjuguent pour offrir une soirée enrichissante et conviviale. \nImmerse yourself in the world of French innovation with a lecture dedicated to the scientific inventions that have shaped history. From Louis Pasteur to Marie Curie\, and including recent discoveries\, explore the ideas\, experiments\, and innovations that have advanced science and transformed our daily lives.\nThis lecture offers an educational and inspiring experience\, providing insight into major French scientific achievements and their global impact\, while fostering curiosity and discussion.\nTo extend this intellectual experience\, the lecture will be followed by a refined tasting of Crémants de Limoux\, accompanied by a convivial aperitif\, encouraging conversation and connections around scientific topics.\nAn event where culture\, curiosity\, and enjoyment come together to offer an enriching and engaging evening.
URL:https://frenchpie.community/event/les-inventions-scientifiques-francaises-copenhagen/
LOCATION:Zoku Copenhagen\, Amagerfælledvej 108\, Copenhagen\, 2300\, Denmark
CATEGORIES:Conférence,Copenhague,Soirée française
ATTACH;FMTTYPE=image/png:https://frenchpie.community/wp-content/uploads/2025/11/Les-inventions-scientifiques-francaises-DK-scaled.png
ORGANIZER;CN="French Pie Community":MAILTO:info@frenchpie.community
END:VEVENT
END:VCALENDAR